BEGIN:VCALENDAR
VERSION:2.0
PRODID:-//Islamic Center of Southern California - ECPv6.15.13//NONSGML v1.0//EN
CALSCALE:GREGORIAN
METHOD:PUBLISH
X-WR-CALNAME:Islamic Center of Southern California
X-ORIGINAL-URL:https://test.s075.wptstaging.space
X-WR-CALDESC:Events for Islamic Center of Southern California
REFRESH-INTERVAL;VALUE=DURATION:PT1H
X-Robots-Tag:noindex
X-PUBLISHED-TTL:PT1H
BEGIN:VTIMEZONE
TZID:America/Los_Angeles
BEGIN:DAYLIGHT
TZOFFSETFROM:-0800
TZOFFSETTO:-0700
TZNAME:PDT
DTSTART:20240310T100000
END:DAYLIGHT
BEGIN:STANDARD
TZOFFSETFROM:-0700
TZOFFSETTO:-0800
TZNAME:PST
DTSTART:20241103T090000
END:STANDARD
BEGIN:DAYLIGHT
TZOFFSETFROM:-0800
TZOFFSETTO:-0700
TZNAME:PDT
DTSTART:20250309T100000
END:DAYLIGHT
BEGIN:STANDARD
TZOFFSETFROM:-0700
TZOFFSETTO:-0800
TZNAME:PST
DTSTART:20251102T090000
END:STANDARD
BEGIN:DAYLIGHT
TZOFFSETFROM:-0800
TZOFFSETTO:-0700
TZNAME:PDT
DTSTART:20260308T100000
END:DAYLIGHT
BEGIN:STANDARD
TZOFFSETFROM:-0700
TZOFFSETTO:-0800
TZNAME:PST
DTSTART:20261101T090000
END:STANDARD
END:VTIMEZONE
BEGIN:VEVENT
DTSTART;TZID=America/Los_Angeles:20250606T073000
DTEND;TZID=America/Los_Angeles:20250606T083000
DTSTAMP:20260421T062156
CREATED:20250604T211756Z
LAST-MODIFIED:20250604T211806Z
UID:10002756-1749195000-1749198600@test.s075.wptstaging.space
SUMMARY:Eid al-Adha Prayer
DESCRIPTION:Join us in celebrating Eid al-Adha — a day of faith\, sacrifice\, and gratitude. We warmly welcome you and your family to gather for prayer and reflection on this sacred occasion. Bring your little ones! Children will receive a special Eid toy at our check-in table (while supplies last).\n\nScheduleTakbeerat: 7:30 AMPrayer: 8:00 AM\n\nKhateeb: Sheikh Asim Buyuksoy\n\n LocationLos Angeles Convention Center (Petree Hall)1201 S Figueroa St\, Los Angeles\, CA 90015\n\nClick Here for virtual support once you arrive at the convention entrance.\nFor more parking information\, Click Here.\n\n\nJoining Virtually? Livestream will be available at www.icsclive.com and on our YouTube Channel
URL:https://test.s075.wptstaging.space/event/eid-al-adha-prayer/
LOCATION:Los Angeles Convention Center\, 1201 S Figueroa St\, Los Angeles\, 90015\, United States
CATEGORIES:Prayer
ATTACH;FMTTYPE=image/png:https://test.s075.wptstaging.space/wp-content/uploads/2025/06/website-image.png
END:VEVENT
END:VCALENDAR