BEGIN:VCALENDAR
VERSION:2.0
PRODID:-//Islamic Center of Southern California - ECPv6.15.13//NONSGML v1.0//EN
CALSCALE:GREGORIAN
METHOD:PUBLISH
X-ORIGINAL-URL:https://test.s075.wptstaging.space
X-WR-CALDESC:Events for Islamic Center of Southern California
REFRESH-INTERVAL;VALUE=DURATION:PT1H
X-Robots-Tag:noindex
X-PUBLISHED-TTL:PT1H
BEGIN:VTIMEZONE
TZID:America/Los_Angeles
BEGIN:DAYLIGHT
TZOFFSETFROM:-0800
TZOFFSETTO:-0700
TZNAME:PDT
DTSTART:20240310T100000
END:DAYLIGHT
BEGIN:STANDARD
TZOFFSETFROM:-0700
TZOFFSETTO:-0800
TZNAME:PST
DTSTART:20241103T090000
END:STANDARD
BEGIN:DAYLIGHT
TZOFFSETFROM:-0800
TZOFFSETTO:-0700
TZNAME:PDT
DTSTART:20250309T100000
END:DAYLIGHT
BEGIN:STANDARD
TZOFFSETFROM:-0700
TZOFFSETTO:-0800
TZNAME:PST
DTSTART:20251102T090000
END:STANDARD
BEGIN:DAYLIGHT
TZOFFSETFROM:-0800
TZOFFSETTO:-0700
TZNAME:PDT
DTSTART:20260308T100000
END:DAYLIGHT
BEGIN:STANDARD
TZOFFSETFROM:-0700
TZOFFSETTO:-0800
TZNAME:PST
DTSTART:20261101T090000
END:STANDARD
END:VTIMEZONE
BEGIN:VEVENT
DTSTART;TZID=America/Los_Angeles:20250404T130000
DTEND;TZID=America/Los_Angeles:20250404T140000
DTSTAMP:20260424T184159
CREATED:20250218T195357Z
LAST-MODIFIED:20250306T060120Z
UID:10000268-1743771600-1743775200@test.s075.wptstaging.space
SUMMARY:ICSC Jumma Service
DESCRIPTION:Join us for our weekly Jumma service\, where we are honored to host a variety of Khateebs who deliver insightful Khutbahs. Qur’an recitation will begin at 12:45 PM\, followed by the call to prayer. The Khutbah will start at 1:00 PM\, insha’Allah. We offer both in-person and online viewing options\, welcoming individuals of all ages\, including women\, children\, and the elderly. \nOur facility is wheelchair accessible\, and we also provide outdoor seating for those who prefer to be outside. While we do not have parking onsite\, there are neighboring locations and parking structures available for public parking. Everyone is invited to attend and be part of our community. \nWatch Online: Facebook Live | Youtube | www.icsclive.com
URL:https://test.s075.wptstaging.space/event/icsc-friday-jumuah-prayer/2025-04-04/
LOCATION:Islamic Center of Southern California\, 434 S. Vermont Ave.\, Los Angeles\, CA\, 90020\, United States
CATEGORIES:Prayer
ATTACH;FMTTYPE=image/png:https://test.s075.wptstaging.space/wp-content/uploads/2025/02/Website-Calendar-Event-Image-JUMMA.png
ORGANIZER;CN="ICSC":MAILTO:info@test.s075.wptstaging.space
END:VEVENT
BEGIN:VEVENT
DTSTART;TZID=America/Los_Angeles:20250404T130000
DTEND;TZID=America/Los_Angeles:20250404T140000
DTSTAMP:20260424T184159
CREATED:20250302T214752Z
LAST-MODIFIED:20250824T222050Z
UID:10001139-1743771600-1743775200@test.s075.wptstaging.space
SUMMARY:Pasadena Satellite Jumma
DESCRIPTION:Join us every Friday for the ICSC Pasadena Satellite Jumma service at 1:00 PM\, held at the First United Methodist Church\, located at 500 E. Colorado Blvd\, Pasadena\, CA 91101. Please remember to bring your own prayer rug. We welcome the entire community to join us in this blessed weekly gathering.
URL:https://test.s075.wptstaging.space/event/icsc-pasadena-satellite/2025-04-04/
LOCATION:ICSC Pasadena Satellite\, 500 E. Colorado Blvd\, Pasadena\, CA\, 91101\, United States
ATTACH;FMTTYPE=image/png:https://test.s075.wptstaging.space/wp-content/uploads/2025/03/Website-Calendar-Event-Image-Pasadena-Satellite.png
END:VEVENT
BEGIN:VEVENT
DTSTART;TZID=America/Los_Angeles:20250405T090000
DTEND;TZID=America/Los_Angeles:20250405T113000
DTSTAMP:20260424T184159
CREATED:20250209T071330Z
LAST-MODIFIED:20250302T205525Z
UID:10000009-1743843600-1743852600@test.s075.wptstaging.space
SUMMARY:Weekly Food Pantry
DESCRIPTION:Our Food Pantry continues to welcome over 400 people weekly with increased supply from the LA Regional Food Bank.
URL:https://test.s075.wptstaging.space/event/weekly-food-pantry/2025-04-05/
LOCATION:Islamic Center of Southern California\, 434 S. Vermont Ave.\, Los Angeles\, CA\, 90020\, United States
ATTACH;FMTTYPE=image/png:https://test.s075.wptstaging.space/wp-content/uploads/2025/02/Website-Calendar-Event-food-pantry.png
END:VEVENT
BEGIN:VEVENT
DTSTART;TZID=America/Los_Angeles:20250406T110000
DTEND;TZID=America/Los_Angeles:20250406T130000
DTSTAMP:20260424T184159
CREATED:20250302T220815Z
LAST-MODIFIED:20250302T220815Z
UID:10001396-1743937200-1743944400@test.s075.wptstaging.space
SUMMARY:MYG/JYG Session
DESCRIPTION:Join us for our MYG/JYG Sunday sessions every week from 11:00 AM to 1:00 PM. Please note that there are occasional breaks during the winter\, summer\, and Ramadan seasons. These sessions are a great opportunity for youth to come together\, learn\, and grow in a supportive community. \nSign Up Today!
URL:https://test.s075.wptstaging.space/event/myg-jyg-session/2025-04-06/
LOCATION:Islamic Center of Southern California\, 434 S. Vermont Ave.\, Los Angeles\, CA\, 90020\, United States
ATTACH;FMTTYPE=image/png:https://test.s075.wptstaging.space/wp-content/uploads/2025/03/myg-calendar-image.png
ORGANIZER;CN="MYG/JYG":MAILTO:myg@test.s075.wptstaging.space
END:VEVENT
BEGIN:VEVENT
DTSTART;TZID=America/Los_Angeles:20250411T130000
DTEND;TZID=America/Los_Angeles:20250411T140000
DTSTAMP:20260424T184159
CREATED:20250218T195357Z
LAST-MODIFIED:20250306T060120Z
UID:10000269-1744376400-1744380000@test.s075.wptstaging.space
SUMMARY:ICSC Jumma Service
DESCRIPTION:Join us for our weekly Jumma service\, where we are honored to host a variety of Khateebs who deliver insightful Khutbahs. Qur’an recitation will begin at 12:45 PM\, followed by the call to prayer. The Khutbah will start at 1:00 PM\, insha’Allah. We offer both in-person and online viewing options\, welcoming individuals of all ages\, including women\, children\, and the elderly. \nOur facility is wheelchair accessible\, and we also provide outdoor seating for those who prefer to be outside. While we do not have parking onsite\, there are neighboring locations and parking structures available for public parking. Everyone is invited to attend and be part of our community. \nWatch Online: Facebook Live | Youtube | www.icsclive.com
URL:https://test.s075.wptstaging.space/event/icsc-friday-jumuah-prayer/2025-04-11/
LOCATION:Islamic Center of Southern California\, 434 S. Vermont Ave.\, Los Angeles\, CA\, 90020\, United States
CATEGORIES:Prayer
ATTACH;FMTTYPE=image/png:https://test.s075.wptstaging.space/wp-content/uploads/2025/02/Website-Calendar-Event-Image-JUMMA.png
ORGANIZER;CN="ICSC":MAILTO:info@test.s075.wptstaging.space
END:VEVENT
BEGIN:VEVENT
DTSTART;TZID=America/Los_Angeles:20250411T130000
DTEND;TZID=America/Los_Angeles:20250411T140000
DTSTAMP:20260424T184159
CREATED:20250302T214752Z
LAST-MODIFIED:20250824T222050Z
UID:10001140-1744376400-1744380000@test.s075.wptstaging.space
SUMMARY:Pasadena Satellite Jumma
DESCRIPTION:Join us every Friday for the ICSC Pasadena Satellite Jumma service at 1:00 PM\, held at the First United Methodist Church\, located at 500 E. Colorado Blvd\, Pasadena\, CA 91101. Please remember to bring your own prayer rug. We welcome the entire community to join us in this blessed weekly gathering.
URL:https://test.s075.wptstaging.space/event/icsc-pasadena-satellite/2025-04-11/
LOCATION:ICSC Pasadena Satellite\, 500 E. Colorado Blvd\, Pasadena\, CA\, 91101\, United States
ATTACH;FMTTYPE=image/png:https://test.s075.wptstaging.space/wp-content/uploads/2025/03/Website-Calendar-Event-Image-Pasadena-Satellite.png
END:VEVENT
BEGIN:VEVENT
DTSTART;TZID=America/Los_Angeles:20250412T090000
DTEND;TZID=America/Los_Angeles:20250412T113000
DTSTAMP:20260424T184159
CREATED:20250209T071330Z
LAST-MODIFIED:20250302T205525Z
UID:10000010-1744448400-1744457400@test.s075.wptstaging.space
SUMMARY:Weekly Food Pantry
DESCRIPTION:Our Food Pantry continues to welcome over 400 people weekly with increased supply from the LA Regional Food Bank.
URL:https://test.s075.wptstaging.space/event/weekly-food-pantry/2025-04-12/
LOCATION:Islamic Center of Southern California\, 434 S. Vermont Ave.\, Los Angeles\, CA\, 90020\, United States
ATTACH;FMTTYPE=image/png:https://test.s075.wptstaging.space/wp-content/uploads/2025/02/Website-Calendar-Event-food-pantry.png
END:VEVENT
BEGIN:VEVENT
DTSTART;TZID=America/Los_Angeles:20250413T110000
DTEND;TZID=America/Los_Angeles:20250413T130000
DTSTAMP:20260424T184159
CREATED:20250302T220815Z
LAST-MODIFIED:20250302T220815Z
UID:10001397-1744542000-1744549200@test.s075.wptstaging.space
SUMMARY:MYG/JYG Session
DESCRIPTION:Join us for our MYG/JYG Sunday sessions every week from 11:00 AM to 1:00 PM. Please note that there are occasional breaks during the winter\, summer\, and Ramadan seasons. These sessions are a great opportunity for youth to come together\, learn\, and grow in a supportive community. \nSign Up Today!
URL:https://test.s075.wptstaging.space/event/myg-jyg-session/2025-04-13/
LOCATION:Islamic Center of Southern California\, 434 S. Vermont Ave.\, Los Angeles\, CA\, 90020\, United States
ATTACH;FMTTYPE=image/png:https://test.s075.wptstaging.space/wp-content/uploads/2025/03/myg-calendar-image.png
ORGANIZER;CN="MYG/JYG":MAILTO:myg@test.s075.wptstaging.space
END:VEVENT
BEGIN:VEVENT
DTSTART;TZID=America/Los_Angeles:20250414T183000
DTEND;TZID=America/Los_Angeles:20250414T193000
DTSTAMP:20260424T184159
CREATED:20250302T225256Z
LAST-MODIFIED:20250709T212902Z
UID:10001913-1744655400-1744659000@test.s075.wptstaging.space
SUMMARY:The Message of The Qu'ran
DESCRIPTION:Temporary Break July 7th\, 2025 – September 1st\, 2025\, we will resume September 8th\, 2025. \nJoin us every week for The Message of the Qur’an\, a comprehensive online Tafsir session led by Sheikh Asim Buyuksoy. Explore the profound meanings and wisdom of the Qur’an as Sheikh Asim delves into its teachings\, offering valuable insights and reflections to enhance our understanding of the Holy Qur’an. This weekly session is an opportunity for spiritual growth and deeper connection with the Qur’anic message. \nJoin online via Zoom | Facebook | Youtube \nLivestream
URL:https://test.s075.wptstaging.space/event/the-message-of-the-quran/2025-04-14/
LOCATION:https://test.s075.wptstaging.space/event/the-message-of-the-quran/2025-04-14/
ATTACH;FMTTYPE=image/png:https://test.s075.wptstaging.space/wp-content/uploads/2025/03/message-of-the-quran.png
END:VEVENT
BEGIN:VEVENT
DTSTART;TZID=America/Los_Angeles:20250418T130000
DTEND;TZID=America/Los_Angeles:20250418T140000
DTSTAMP:20260424T184159
CREATED:20250218T195357Z
LAST-MODIFIED:20250306T060120Z
UID:10000270-1744981200-1744984800@test.s075.wptstaging.space
SUMMARY:ICSC Jumma Service
DESCRIPTION:Join us for our weekly Jumma service\, where we are honored to host a variety of Khateebs who deliver insightful Khutbahs. Qur’an recitation will begin at 12:45 PM\, followed by the call to prayer. The Khutbah will start at 1:00 PM\, insha’Allah. We offer both in-person and online viewing options\, welcoming individuals of all ages\, including women\, children\, and the elderly. \nOur facility is wheelchair accessible\, and we also provide outdoor seating for those who prefer to be outside. While we do not have parking onsite\, there are neighboring locations and parking structures available for public parking. Everyone is invited to attend and be part of our community. \nWatch Online: Facebook Live | Youtube | www.icsclive.com
URL:https://test.s075.wptstaging.space/event/icsc-friday-jumuah-prayer/2025-04-18/
LOCATION:Islamic Center of Southern California\, 434 S. Vermont Ave.\, Los Angeles\, CA\, 90020\, United States
CATEGORIES:Prayer
ATTACH;FMTTYPE=image/png:https://test.s075.wptstaging.space/wp-content/uploads/2025/02/Website-Calendar-Event-Image-JUMMA.png
ORGANIZER;CN="ICSC":MAILTO:info@test.s075.wptstaging.space
END:VEVENT
BEGIN:VEVENT
DTSTART;TZID=America/Los_Angeles:20250418T130000
DTEND;TZID=America/Los_Angeles:20250418T140000
DTSTAMP:20260424T184159
CREATED:20250302T214752Z
LAST-MODIFIED:20250824T222050Z
UID:10001141-1744981200-1744984800@test.s075.wptstaging.space
SUMMARY:Pasadena Satellite Jumma
DESCRIPTION:Join us every Friday for the ICSC Pasadena Satellite Jumma service at 1:00 PM\, held at the First United Methodist Church\, located at 500 E. Colorado Blvd\, Pasadena\, CA 91101. Please remember to bring your own prayer rug. We welcome the entire community to join us in this blessed weekly gathering.
URL:https://test.s075.wptstaging.space/event/icsc-pasadena-satellite/2025-04-18/
LOCATION:ICSC Pasadena Satellite\, 500 E. Colorado Blvd\, Pasadena\, CA\, 91101\, United States
ATTACH;FMTTYPE=image/png:https://test.s075.wptstaging.space/wp-content/uploads/2025/03/Website-Calendar-Event-Image-Pasadena-Satellite.png
END:VEVENT
BEGIN:VEVENT
DTSTART;TZID=America/Los_Angeles:20250419T090000
DTEND;TZID=America/Los_Angeles:20250419T113000
DTSTAMP:20260424T184159
CREATED:20250209T071330Z
LAST-MODIFIED:20250302T205525Z
UID:10000011-1745053200-1745062200@test.s075.wptstaging.space
SUMMARY:Weekly Food Pantry
DESCRIPTION:Our Food Pantry continues to welcome over 400 people weekly with increased supply from the LA Regional Food Bank.
URL:https://test.s075.wptstaging.space/event/weekly-food-pantry/2025-04-19/
LOCATION:Islamic Center of Southern California\, 434 S. Vermont Ave.\, Los Angeles\, CA\, 90020\, United States
ATTACH;FMTTYPE=image/png:https://test.s075.wptstaging.space/wp-content/uploads/2025/02/Website-Calendar-Event-food-pantry.png
END:VEVENT
BEGIN:VEVENT
DTSTART;TZID=America/Los_Angeles:20250420T110000
DTEND;TZID=America/Los_Angeles:20250420T130000
DTSTAMP:20260424T184159
CREATED:20250302T220815Z
LAST-MODIFIED:20250302T220815Z
UID:10001398-1745146800-1745154000@test.s075.wptstaging.space
SUMMARY:MYG/JYG Session
DESCRIPTION:Join us for our MYG/JYG Sunday sessions every week from 11:00 AM to 1:00 PM. Please note that there are occasional breaks during the winter\, summer\, and Ramadan seasons. These sessions are a great opportunity for youth to come together\, learn\, and grow in a supportive community. \nSign Up Today!
URL:https://test.s075.wptstaging.space/event/myg-jyg-session/2025-04-20/
LOCATION:Islamic Center of Southern California\, 434 S. Vermont Ave.\, Los Angeles\, CA\, 90020\, United States
ATTACH;FMTTYPE=image/png:https://test.s075.wptstaging.space/wp-content/uploads/2025/03/myg-calendar-image.png
ORGANIZER;CN="MYG/JYG":MAILTO:myg@test.s075.wptstaging.space
END:VEVENT
BEGIN:VEVENT
DTSTART;TZID=America/Los_Angeles:20250425T130000
DTEND;TZID=America/Los_Angeles:20250425T140000
DTSTAMP:20260424T184159
CREATED:20250218T195357Z
LAST-MODIFIED:20250306T060120Z
UID:10000271-1745586000-1745589600@test.s075.wptstaging.space
SUMMARY:ICSC Jumma Service
DESCRIPTION:Join us for our weekly Jumma service\, where we are honored to host a variety of Khateebs who deliver insightful Khutbahs. Qur’an recitation will begin at 12:45 PM\, followed by the call to prayer. The Khutbah will start at 1:00 PM\, insha’Allah. We offer both in-person and online viewing options\, welcoming individuals of all ages\, including women\, children\, and the elderly. \nOur facility is wheelchair accessible\, and we also provide outdoor seating for those who prefer to be outside. While we do not have parking onsite\, there are neighboring locations and parking structures available for public parking. Everyone is invited to attend and be part of our community. \nWatch Online: Facebook Live | Youtube | www.icsclive.com
URL:https://test.s075.wptstaging.space/event/icsc-friday-jumuah-prayer/2025-04-25/
LOCATION:Islamic Center of Southern California\, 434 S. Vermont Ave.\, Los Angeles\, CA\, 90020\, United States
CATEGORIES:Prayer
ATTACH;FMTTYPE=image/png:https://test.s075.wptstaging.space/wp-content/uploads/2025/02/Website-Calendar-Event-Image-JUMMA.png
ORGANIZER;CN="ICSC":MAILTO:info@test.s075.wptstaging.space
END:VEVENT
BEGIN:VEVENT
DTSTART;TZID=America/Los_Angeles:20250425T130000
DTEND;TZID=America/Los_Angeles:20250425T140000
DTSTAMP:20260424T184159
CREATED:20250302T214752Z
LAST-MODIFIED:20250824T222050Z
UID:10001142-1745586000-1745589600@test.s075.wptstaging.space
SUMMARY:Pasadena Satellite Jumma
DESCRIPTION:Join us every Friday for the ICSC Pasadena Satellite Jumma service at 1:00 PM\, held at the First United Methodist Church\, located at 500 E. Colorado Blvd\, Pasadena\, CA 91101. Please remember to bring your own prayer rug. We welcome the entire community to join us in this blessed weekly gathering.
URL:https://test.s075.wptstaging.space/event/icsc-pasadena-satellite/2025-04-25/
LOCATION:ICSC Pasadena Satellite\, 500 E. Colorado Blvd\, Pasadena\, CA\, 91101\, United States
ATTACH;FMTTYPE=image/png:https://test.s075.wptstaging.space/wp-content/uploads/2025/03/Website-Calendar-Event-Image-Pasadena-Satellite.png
END:VEVENT
BEGIN:VEVENT
DTSTART;TZID=America/Los_Angeles:20250426T090000
DTEND;TZID=America/Los_Angeles:20250426T113000
DTSTAMP:20260424T184159
CREATED:20250209T071330Z
LAST-MODIFIED:20250302T205525Z
UID:10000012-1745658000-1745667000@test.s075.wptstaging.space
SUMMARY:Weekly Food Pantry
DESCRIPTION:Our Food Pantry continues to welcome over 400 people weekly with increased supply from the LA Regional Food Bank.
URL:https://test.s075.wptstaging.space/event/weekly-food-pantry/2025-04-26/
LOCATION:Islamic Center of Southern California\, 434 S. Vermont Ave.\, Los Angeles\, CA\, 90020\, United States
ATTACH;FMTTYPE=image/png:https://test.s075.wptstaging.space/wp-content/uploads/2025/02/Website-Calendar-Event-food-pantry.png
END:VEVENT
BEGIN:VEVENT
DTSTART;TZID=America/Los_Angeles:20250427T100000
DTEND;TZID=America/Los_Angeles:20250427T110000
DTSTAMP:20260424T184159
CREATED:20250423T012527Z
LAST-MODIFIED:20250423T012527Z
UID:10002181-1745748000-1745751600@test.s075.wptstaging.space
SUMMARY:Genocide Awareness Webinar
DESCRIPTION:Genocide Awareness Webinar\n10:00 AM | Zoom ID: 829 6117 0405 \nJoin us for a powerful and timely webinar spotlighting the ongoing humanitarian crises in the Congo\, Sudan\, and Palestine. Featuring insights from Niclette Mundabi\, Lubna Hammad\, and Dr. Alden Young\, this conversation will shed light on the realities on the ground\, the historical and political context\, and the urgent need for awareness and action.
URL:https://test.s075.wptstaging.space/event/genocide-awareness-webinar/
LOCATION:Online
ATTACH;FMTTYPE=image/png:https://test.s075.wptstaging.space/wp-content/uploads/2025/04/GENOCIDE-AWARENESS.png
END:VEVENT
BEGIN:VEVENT
DTSTART;TZID=America/Los_Angeles:20250427T103000
DTEND;TZID=America/Los_Angeles:20250427T111500
DTSTAMP:20260424T184159
CREATED:20250423T224852Z
LAST-MODIFIED:20250423T224852Z
UID:10002185-1745749800-1745752500@test.s075.wptstaging.space
SUMMARY:Parent Circle
DESCRIPTION:10:30 AM – 11:15 AM | Lecture Hall \nConnect with fellow parents in a welcoming space as we explore meaningful discussions on spirituality\, parenting\, and child development. Let’s learn\, share\, and grow together!
URL:https://test.s075.wptstaging.space/event/parent-circle/2025-04-27/
LOCATION:Islamic Center of Southern California\, 434 S. Vermont Ave.\, Los Angeles\, CA\, 90020\, United States
ATTACH;FMTTYPE=image/png:https://test.s075.wptstaging.space/wp-content/uploads/2025/04/parent-circle.png
END:VEVENT
BEGIN:VEVENT
DTSTART;TZID=America/Los_Angeles:20250427T110000
DTEND;TZID=America/Los_Angeles:20250427T130000
DTSTAMP:20260424T184159
CREATED:20250302T220815Z
LAST-MODIFIED:20250302T220815Z
UID:10001399-1745751600-1745758800@test.s075.wptstaging.space
SUMMARY:MYG/JYG Session
DESCRIPTION:Join us for our MYG/JYG Sunday sessions every week from 11:00 AM to 1:00 PM. Please note that there are occasional breaks during the winter\, summer\, and Ramadan seasons. These sessions are a great opportunity for youth to come together\, learn\, and grow in a supportive community. \nSign Up Today!
URL:https://test.s075.wptstaging.space/event/myg-jyg-session/2025-04-27/
LOCATION:Islamic Center of Southern California\, 434 S. Vermont Ave.\, Los Angeles\, CA\, 90020\, United States
ATTACH;FMTTYPE=image/png:https://test.s075.wptstaging.space/wp-content/uploads/2025/03/myg-calendar-image.png
ORGANIZER;CN="MYG/JYG":MAILTO:myg@test.s075.wptstaging.space
END:VEVENT
BEGIN:VEVENT
DTSTART;TZID=America/Los_Angeles:20250427T131500
DTEND;TZID=America/Los_Angeles:20250427T141500
DTSTAMP:20260424T184159
CREATED:20250423T225639Z
LAST-MODIFIED:20250824T220337Z
UID:10002494-1745759700-1745763300@test.s075.wptstaging.space
SUMMARY:Qur'an Memorization Class
DESCRIPTION:Every Sunday | $30/Month\n1:15 PM | Lecture Hall \nOur Qur’an Memorization Class is open to both youth and adults looking to strengthen their memorization skills and deepen their connection to the Qur’an. Join us on this rewarding journey of learning and spiritual growth! \nClick Here to Register
URL:https://test.s075.wptstaging.space/event/quran-memorization-class/2025-04-27/
LOCATION:Islamic Center of Southern California\, 434 S. Vermont Ave.\, Los Angeles\, CA\, 90020\, United States
ATTACH;FMTTYPE=image/png:https://test.s075.wptstaging.space/wp-content/uploads/2025/04/quran-memorization-class.png
END:VEVENT
BEGIN:VEVENT
DTSTART;TZID=America/Los_Angeles:20250427T133000
DTEND;TZID=America/Los_Angeles:20250427T153000
DTSTAMP:20260424T184159
CREATED:20250423T012654Z
LAST-MODIFIED:20250423T012654Z
UID:10002182-1745760600-1745767800@test.s075.wptstaging.space
SUMMARY:LA Mural Concept Workshop
DESCRIPTION:LA Mural Concept Workshop\nled by Mural Colors\n1:30 PM – 3:30 PM | ICSC Lecture Hall \nYou have the opportunity to express your unique experiences and insights to help shape the design of a new mural that highlights the histories and experiences of the Muslim and Arab-American communities in Los Angeles County. Help inspire a mural that celebrates identity and culture. \nCLICK HERE to Register
URL:https://test.s075.wptstaging.space/event/la-mural-concept-workshop/
LOCATION:Islamic Center of Southern California\, 434 S. Vermont Ave.\, Los Angeles\, CA\, 90020\, United States
ATTACH;FMTTYPE=image/png:https://test.s075.wptstaging.space/wp-content/uploads/2025/04/Mural-Concept-Workshop-.png
END:VEVENT
END:VCALENDAR