BEGIN:VCALENDAR
VERSION:2.0
PRODID:-//Islamic Center of Southern California - ECPv6.15.13//NONSGML v1.0//EN
CALSCALE:GREGORIAN
METHOD:PUBLISH
X-WR-CALNAME:Islamic Center of Southern California
X-ORIGINAL-URL:https://test.s075.wptstaging.space
X-WR-CALDESC:Events for Islamic Center of Southern California
REFRESH-INTERVAL;VALUE=DURATION:PT1H
X-Robots-Tag:noindex
X-PUBLISHED-TTL:PT1H
BEGIN:VTIMEZONE
TZID:America/Los_Angeles
BEGIN:DAYLIGHT
TZOFFSETFROM:-0800
TZOFFSETTO:-0700
TZNAME:PDT
DTSTART:20240310T100000
END:DAYLIGHT
BEGIN:STANDARD
TZOFFSETFROM:-0700
TZOFFSETTO:-0800
TZNAME:PST
DTSTART:20241103T090000
END:STANDARD
BEGIN:DAYLIGHT
TZOFFSETFROM:-0800
TZOFFSETTO:-0700
TZNAME:PDT
DTSTART:20250309T100000
END:DAYLIGHT
BEGIN:STANDARD
TZOFFSETFROM:-0700
TZOFFSETTO:-0800
TZNAME:PST
DTSTART:20251102T090000
END:STANDARD
BEGIN:DAYLIGHT
TZOFFSETFROM:-0800
TZOFFSETTO:-0700
TZNAME:PDT
DTSTART:20260308T100000
END:DAYLIGHT
BEGIN:STANDARD
TZOFFSETFROM:-0700
TZOFFSETTO:-0800
TZNAME:PST
DTSTART:20261101T090000
END:STANDARD
END:VTIMEZONE
BEGIN:VEVENT
DTSTART;TZID=America/Los_Angeles:20250228T190000
DTEND;TZID=America/Los_Angeles:20250308T210000
DTSTAMP:20260424T200044
CREATED:20250226T012558Z
LAST-MODIFIED:20250309T230701Z
UID:10000788-1740769200-1741467600@test.s075.wptstaging.space
SUMMARY:Nightly Ramadan Program
DESCRIPTION:Join us in person or online for our nightly Ramadan Program. \nWatch Livestream: Facebook Live | Youtube | www.icsclive.com \nEach night\, after Maghrib\, we begin with Qur’an recitation\, where we read one Juz (part) of the Qur’an\, followed by Isha prayer\, and then Taraweeh prayers\, which consist of 8 units (Rak’ahs) of prayer. A complimentary Iftar is served every night\, except for Thursday and Friday. We welcome everyone to participate in this special time of worship and community. \n 
URL:https://test.s075.wptstaging.space/event/ramadan-night-program/2025-02-28/
LOCATION:Islamic Center of Southern California\, 434 S. Vermont Ave.\, Los Angeles\, CA\, 90020\, United States
CATEGORIES:Prayer
ATTACH;FMTTYPE=image/png:https://test.s075.wptstaging.space/wp-content/uploads/2025/02/ramadan-night-program-pic-for-calendar.png
ORGANIZER;CN="ICSC":MAILTO:info@test.s075.wptstaging.space
END:VEVENT
BEGIN:VEVENT
DTSTART;TZID=America/Los_Angeles:20250301T090000
DTEND;TZID=America/Los_Angeles:20250301T113000
DTSTAMP:20260424T200044
CREATED:20250209T071330Z
LAST-MODIFIED:20250302T205525Z
UID:10000004-1740819600-1740828600@test.s075.wptstaging.space
SUMMARY:Weekly Food Pantry
DESCRIPTION:Our Food Pantry continues to welcome over 400 people weekly with increased supply from the LA Regional Food Bank.
URL:https://test.s075.wptstaging.space/event/weekly-food-pantry/2025-03-01/
LOCATION:Islamic Center of Southern California\, 434 S. Vermont Ave.\, Los Angeles\, CA\, 90020\, United States
ATTACH;FMTTYPE=image/png:https://test.s075.wptstaging.space/wp-content/uploads/2025/02/Website-Calendar-Event-food-pantry.png
END:VEVENT
BEGIN:VEVENT
DTSTART;TZID=America/Los_Angeles:20250307T130000
DTEND;TZID=America/Los_Angeles:20250307T140000
DTSTAMP:20260424T200044
CREATED:20250218T195357Z
LAST-MODIFIED:20250306T060120Z
UID:10000264-1741352400-1741356000@test.s075.wptstaging.space
SUMMARY:ICSC Jumma Service
DESCRIPTION:Join us for our weekly Jumma service\, where we are honored to host a variety of Khateebs who deliver insightful Khutbahs. Qur’an recitation will begin at 12:45 PM\, followed by the call to prayer. The Khutbah will start at 1:00 PM\, insha’Allah. We offer both in-person and online viewing options\, welcoming individuals of all ages\, including women\, children\, and the elderly. \nOur facility is wheelchair accessible\, and we also provide outdoor seating for those who prefer to be outside. While we do not have parking onsite\, there are neighboring locations and parking structures available for public parking. Everyone is invited to attend and be part of our community. \nWatch Online: Facebook Live | Youtube | www.icsclive.com
URL:https://test.s075.wptstaging.space/event/icsc-friday-jumuah-prayer/2025-03-07/
LOCATION:Islamic Center of Southern California\, 434 S. Vermont Ave.\, Los Angeles\, CA\, 90020\, United States
CATEGORIES:Prayer
ATTACH;FMTTYPE=image/png:https://test.s075.wptstaging.space/wp-content/uploads/2025/02/Website-Calendar-Event-Image-JUMMA.png
ORGANIZER;CN="ICSC":MAILTO:info@test.s075.wptstaging.space
END:VEVENT
BEGIN:VEVENT
DTSTART;TZID=America/Los_Angeles:20250307T130000
DTEND;TZID=America/Los_Angeles:20250307T140000
DTSTAMP:20260424T200044
CREATED:20250302T214752Z
LAST-MODIFIED:20250824T222050Z
UID:10001135-1741352400-1741356000@test.s075.wptstaging.space
SUMMARY:Pasadena Satellite Jumma
DESCRIPTION:Join us every Friday for the ICSC Pasadena Satellite Jumma service at 1:00 PM\, held at the First United Methodist Church\, located at 500 E. Colorado Blvd\, Pasadena\, CA 91101. Please remember to bring your own prayer rug. We welcome the entire community to join us in this blessed weekly gathering.
URL:https://test.s075.wptstaging.space/event/icsc-pasadena-satellite/2025-03-07/
LOCATION:ICSC Pasadena Satellite\, 500 E. Colorado Blvd\, Pasadena\, CA\, 91101\, United States
ATTACH;FMTTYPE=image/png:https://test.s075.wptstaging.space/wp-content/uploads/2025/03/Website-Calendar-Event-Image-Pasadena-Satellite.png
END:VEVENT
BEGIN:VEVENT
DTSTART;TZID=America/Los_Angeles:20250307T173000
DTEND;TZID=America/Los_Angeles:20250307T210000
DTSTAMP:20260424T200044
CREATED:20250226T014025Z
LAST-MODIFIED:20250306T054752Z
UID:10000811-1741368600-1741381200@test.s075.wptstaging.space
SUMMARY:Pasadena Satellite: Community Iftar & Taraweeh
DESCRIPTION:New Horizon School- Pasadena\n651 Orange Grove Blvd.\,\nPasadena\, CA 91103\n5:30 PM – 9:00 PM \nJoin us for a special community Iftar\, followed by Taraweeh Prayer\, collaboration with Muslim Family Night at the New Horizon School in Pasadena. RSVP needed as capacity is limited.  \nClick Here to Learn More
URL:https://test.s075.wptstaging.space/event/icsc-pasadena-satellite-community-iftar-taraweeh/
LOCATION:New Horizon School-Pasadena\, 651 Orange Grove Blvd.\, Pasadena\, 91103
CATEGORIES:Community Iftar,Prayer
ATTACH;FMTTYPE=image/jpeg:https://test.s075.wptstaging.space/wp-content/uploads/2025/02/AF323FB9-BF3A-4E41-9CFB-9F1BDF40B7D7_1_105_c.jpeg
END:VEVENT
BEGIN:VEVENT
DTSTART;TZID=America/Los_Angeles:20250308T090000
DTEND;TZID=America/Los_Angeles:20250308T113000
DTSTAMP:20260424T200044
CREATED:20250209T071330Z
LAST-MODIFIED:20250302T205525Z
UID:10000005-1741424400-1741433400@test.s075.wptstaging.space
SUMMARY:Weekly Food Pantry
DESCRIPTION:Our Food Pantry continues to welcome over 400 people weekly with increased supply from the LA Regional Food Bank.
URL:https://test.s075.wptstaging.space/event/weekly-food-pantry/2025-03-08/
LOCATION:Islamic Center of Southern California\, 434 S. Vermont Ave.\, Los Angeles\, CA\, 90020\, United States
ATTACH;FMTTYPE=image/png:https://test.s075.wptstaging.space/wp-content/uploads/2025/02/Website-Calendar-Event-food-pantry.png
END:VEVENT
BEGIN:VEVENT
DTSTART;TZID=America/Los_Angeles:20250309T203000
DTEND;TZID=America/Los_Angeles:20250328T223000
DTSTAMP:20260424T200044
CREATED:20250226T013125Z
LAST-MODIFIED:20250307T210953Z
UID:10002168-1741552200-1743201000@test.s075.wptstaging.space
SUMMARY:Nightly Ramadan Program
DESCRIPTION:Join us in person or online for our nightly Ramadan program. \nWatch Online: Facebook Live | Youtube| www.icsclive.com \nEach night\, after Maghrib\, we begin with Qur’an recitation of half of one Juz (part) of the Qur’an\, followed by Isha prayer\, and then Taraweeh prayers\, which consist of 8 units (Rak’ahs) of prayer. A complimentary Iftar is served every night\, except for Thursday and Friday. We welcome everyone to participate in this special time of worship and community.
URL:https://test.s075.wptstaging.space/event/ramadan-night-program-2/2025-03-09/
LOCATION:Islamic Center of Southern California\, 434 S. Vermont Ave.\, Los Angeles\, CA\, 90020\, United States
CATEGORIES:Prayer
ATTACH;FMTTYPE=image/png:https://test.s075.wptstaging.space/wp-content/uploads/2025/02/ramadan-night-program-pic-for-calendar.png
ORGANIZER;CN="ICSC":MAILTO:info@test.s075.wptstaging.space
END:VEVENT
BEGIN:VEVENT
DTSTART;TZID=America/Los_Angeles:20250313T223000
DTEND;TZID=America/Los_Angeles:20250313T230000
DTSTAMP:20260424T200044
CREATED:20250309T213003Z
LAST-MODIFIED:20250309T213013Z
UID:10002169-1741905000-1741906800@test.s075.wptstaging.space
SUMMARY:Salat al-Khusuf: Lunar Eclipse Prayer
DESCRIPTION:Salat al-Khusuf: Lunar Eclipse Prayer \nJoin us for the special Salat al-Khusuf (Lunar Eclipse Prayer)\, offered during a lunar eclipse after our Taraweeh prayers. This prayer is a moment to reflect on Allah’s power over the universe\, as the Moon is darkened by Earth’s shadow. The prayer is performed in congregation and serves as an opportunity to seek forgiveness\, increase devotion\, and reflect on the majesty of Allah’s creation. Let us gather in worship and remembrance during this celestial event. \nLive streaming Available in partnership with the Griffith Observatory via Facebook Live | Youtube| www.icsclive.com
URL:https://test.s075.wptstaging.space/event/salat-al-khusuf-lunar-eclipse-prayer/
LOCATION:Islamic Center of Southern California\, 434 S. Vermont Ave.\, Los Angeles\, CA\, 90020\, United States
CATEGORIES:Prayer
ATTACH;FMTTYPE=image/png:https://test.s075.wptstaging.space/wp-content/uploads/2025/03/Ramadan-2025-10.png
END:VEVENT
BEGIN:VEVENT
DTSTART;TZID=America/Los_Angeles:20250314T130000
DTEND;TZID=America/Los_Angeles:20250314T140000
DTSTAMP:20260424T200044
CREATED:20250218T195357Z
LAST-MODIFIED:20250306T060120Z
UID:10000265-1741957200-1741960800@test.s075.wptstaging.space
SUMMARY:ICSC Jumma Service
DESCRIPTION:Join us for our weekly Jumma service\, where we are honored to host a variety of Khateebs who deliver insightful Khutbahs. Qur’an recitation will begin at 12:45 PM\, followed by the call to prayer. The Khutbah will start at 1:00 PM\, insha’Allah. We offer both in-person and online viewing options\, welcoming individuals of all ages\, including women\, children\, and the elderly. \nOur facility is wheelchair accessible\, and we also provide outdoor seating for those who prefer to be outside. While we do not have parking onsite\, there are neighboring locations and parking structures available for public parking. Everyone is invited to attend and be part of our community. \nWatch Online: Facebook Live | Youtube | www.icsclive.com
URL:https://test.s075.wptstaging.space/event/icsc-friday-jumuah-prayer/2025-03-14/
LOCATION:Islamic Center of Southern California\, 434 S. Vermont Ave.\, Los Angeles\, CA\, 90020\, United States
CATEGORIES:Prayer
ATTACH;FMTTYPE=image/png:https://test.s075.wptstaging.space/wp-content/uploads/2025/02/Website-Calendar-Event-Image-JUMMA.png
ORGANIZER;CN="ICSC":MAILTO:info@test.s075.wptstaging.space
END:VEVENT
BEGIN:VEVENT
DTSTART;TZID=America/Los_Angeles:20250314T130000
DTEND;TZID=America/Los_Angeles:20250314T140000
DTSTAMP:20260424T200044
CREATED:20250302T214752Z
LAST-MODIFIED:20250824T222050Z
UID:10001136-1741957200-1741960800@test.s075.wptstaging.space
SUMMARY:Pasadena Satellite Jumma
DESCRIPTION:Join us every Friday for the ICSC Pasadena Satellite Jumma service at 1:00 PM\, held at the First United Methodist Church\, located at 500 E. Colorado Blvd\, Pasadena\, CA 91101. Please remember to bring your own prayer rug. We welcome the entire community to join us in this blessed weekly gathering.
URL:https://test.s075.wptstaging.space/event/icsc-pasadena-satellite/2025-03-14/
LOCATION:ICSC Pasadena Satellite\, 500 E. Colorado Blvd\, Pasadena\, CA\, 91101\, United States
ATTACH;FMTTYPE=image/png:https://test.s075.wptstaging.space/wp-content/uploads/2025/03/Website-Calendar-Event-Image-Pasadena-Satellite.png
END:VEVENT
BEGIN:VEVENT
DTSTART;TZID=America/Los_Angeles:20250315T090000
DTEND;TZID=America/Los_Angeles:20250315T113000
DTSTAMP:20260424T200044
CREATED:20250209T071330Z
LAST-MODIFIED:20250302T205525Z
UID:10000006-1742029200-1742038200@test.s075.wptstaging.space
SUMMARY:Weekly Food Pantry
DESCRIPTION:Our Food Pantry continues to welcome over 400 people weekly with increased supply from the LA Regional Food Bank.
URL:https://test.s075.wptstaging.space/event/weekly-food-pantry/2025-03-15/
LOCATION:Islamic Center of Southern California\, 434 S. Vermont Ave.\, Los Angeles\, CA\, 90020\, United States
ATTACH;FMTTYPE=image/png:https://test.s075.wptstaging.space/wp-content/uploads/2025/02/Website-Calendar-Event-food-pantry.png
END:VEVENT
BEGIN:VEVENT
DTSTART;TZID=America/Los_Angeles:20250321T130000
DTEND;TZID=America/Los_Angeles:20250321T140000
DTSTAMP:20260424T200044
CREATED:20250218T195357Z
LAST-MODIFIED:20250306T060120Z
UID:10000266-1742562000-1742565600@test.s075.wptstaging.space
SUMMARY:ICSC Jumma Service
DESCRIPTION:Join us for our weekly Jumma service\, where we are honored to host a variety of Khateebs who deliver insightful Khutbahs. Qur’an recitation will begin at 12:45 PM\, followed by the call to prayer. The Khutbah will start at 1:00 PM\, insha’Allah. We offer both in-person and online viewing options\, welcoming individuals of all ages\, including women\, children\, and the elderly. \nOur facility is wheelchair accessible\, and we also provide outdoor seating for those who prefer to be outside. While we do not have parking onsite\, there are neighboring locations and parking structures available for public parking. Everyone is invited to attend and be part of our community. \nWatch Online: Facebook Live | Youtube | www.icsclive.com
URL:https://test.s075.wptstaging.space/event/icsc-friday-jumuah-prayer/2025-03-21/
LOCATION:Islamic Center of Southern California\, 434 S. Vermont Ave.\, Los Angeles\, CA\, 90020\, United States
CATEGORIES:Prayer
ATTACH;FMTTYPE=image/png:https://test.s075.wptstaging.space/wp-content/uploads/2025/02/Website-Calendar-Event-Image-JUMMA.png
ORGANIZER;CN="ICSC":MAILTO:info@test.s075.wptstaging.space
END:VEVENT
BEGIN:VEVENT
DTSTART;TZID=America/Los_Angeles:20250321T130000
DTEND;TZID=America/Los_Angeles:20250321T140000
DTSTAMP:20260424T200044
CREATED:20250302T214752Z
LAST-MODIFIED:20250824T222050Z
UID:10001137-1742562000-1742565600@test.s075.wptstaging.space
SUMMARY:Pasadena Satellite Jumma
DESCRIPTION:Join us every Friday for the ICSC Pasadena Satellite Jumma service at 1:00 PM\, held at the First United Methodist Church\, located at 500 E. Colorado Blvd\, Pasadena\, CA 91101. Please remember to bring your own prayer rug. We welcome the entire community to join us in this blessed weekly gathering.
URL:https://test.s075.wptstaging.space/event/icsc-pasadena-satellite/2025-03-21/
LOCATION:ICSC Pasadena Satellite\, 500 E. Colorado Blvd\, Pasadena\, CA\, 91101\, United States
ATTACH;FMTTYPE=image/png:https://test.s075.wptstaging.space/wp-content/uploads/2025/03/Website-Calendar-Event-Image-Pasadena-Satellite.png
END:VEVENT
BEGIN:VEVENT
DTSTART;TZID=America/Los_Angeles:20250322T090000
DTEND;TZID=America/Los_Angeles:20250322T113000
DTSTAMP:20260424T200044
CREATED:20250209T071330Z
LAST-MODIFIED:20250302T205525Z
UID:10000007-1742634000-1742643000@test.s075.wptstaging.space
SUMMARY:Weekly Food Pantry
DESCRIPTION:Our Food Pantry continues to welcome over 400 people weekly with increased supply from the LA Regional Food Bank.
URL:https://test.s075.wptstaging.space/event/weekly-food-pantry/2025-03-22/
LOCATION:Islamic Center of Southern California\, 434 S. Vermont Ave.\, Los Angeles\, CA\, 90020\, United States
ATTACH;FMTTYPE=image/png:https://test.s075.wptstaging.space/wp-content/uploads/2025/02/Website-Calendar-Event-food-pantry.png
END:VEVENT
BEGIN:VEVENT
DTSTART;TZID=America/Los_Angeles:20250326T203000
DTEND;TZID=America/Los_Angeles:20250326T223000
DTSTAMP:20260424T200044
CREATED:20250314T190206Z
LAST-MODIFIED:20250325T202643Z
UID:10002170-1743021000-1743028200@test.s075.wptstaging.space
SUMMARY:Laylat al-Qadr- Night of Power
DESCRIPTION:Join us in person or online for a memorable Laylat al-Qadr – Night of Power – Ramadan program next Wednesday. We’ll be reciting Juz 27 of the Qur’an and offering an engaging all-night experience for the entire family. \nEnjoy delicious selection food trucks and food vendors\, as well as fun activities for the kids\, including face painting and balloon artists. Plus\, we’ll have a special volunteer led Suhoor served before Fajr. Come for a night of prayer\, community\, and celebration on this blessed occasion! \nParking Information for Laylatul Qadr📍 425 Shatto Pl\, Los Angeles\, CA 90020 \n \nWe will have parking available on the upper and lower levels of the Shatto facility. The lot will open at 5:00 PM and remain open until Fajr. \nFirst-Come\, First-Serve: Once the Shatto parking lot reaches capacity\, attendees will need to find metered street parking or utilize nearby public parking locations. \n\nOverflow Parking: Additional parking is available at the Galleria Shops next door for $20 per vehicle. Laylatul Qadr attendees will receive a special ticket that must be displayed on their vehicle dashboard to prevent towing after hours. \n⚠️ Parking Reminder: Please park responsibly and in accordance with all posted signage. Be mindful of our neighbors’ properties and avoid blocking driveways or access points. \nClick Here for Directions \nThank you for your cooperation and consideration. We look forward to a blessed and peaceful Laylatul Qadr.
URL:https://test.s075.wptstaging.space/event/laylat-al-qadr-night-of-power/
LOCATION:Islamic Center of Southern California\, 434 S. Vermont Ave.\, Los Angeles\, CA\, 90020\, United States
ATTACH;FMTTYPE=image/png:https://test.s075.wptstaging.space/wp-content/uploads/2025/03/laylatuqadr-updated.png
END:VEVENT
BEGIN:VEVENT
DTSTART;TZID=America/Los_Angeles:20250328T130000
DTEND;TZID=America/Los_Angeles:20250328T140000
DTSTAMP:20260424T200044
CREATED:20250218T195357Z
LAST-MODIFIED:20250306T060120Z
UID:10000267-1743166800-1743170400@test.s075.wptstaging.space
SUMMARY:ICSC Jumma Service
DESCRIPTION:Join us for our weekly Jumma service\, where we are honored to host a variety of Khateebs who deliver insightful Khutbahs. Qur’an recitation will begin at 12:45 PM\, followed by the call to prayer. The Khutbah will start at 1:00 PM\, insha’Allah. We offer both in-person and online viewing options\, welcoming individuals of all ages\, including women\, children\, and the elderly. \nOur facility is wheelchair accessible\, and we also provide outdoor seating for those who prefer to be outside. While we do not have parking onsite\, there are neighboring locations and parking structures available for public parking. Everyone is invited to attend and be part of our community. \nWatch Online: Facebook Live | Youtube | www.icsclive.com
URL:https://test.s075.wptstaging.space/event/icsc-friday-jumuah-prayer/2025-03-28/
LOCATION:Islamic Center of Southern California\, 434 S. Vermont Ave.\, Los Angeles\, CA\, 90020\, United States
CATEGORIES:Prayer
ATTACH;FMTTYPE=image/png:https://test.s075.wptstaging.space/wp-content/uploads/2025/02/Website-Calendar-Event-Image-JUMMA.png
ORGANIZER;CN="ICSC":MAILTO:info@test.s075.wptstaging.space
END:VEVENT
BEGIN:VEVENT
DTSTART;TZID=America/Los_Angeles:20250328T130000
DTEND;TZID=America/Los_Angeles:20250328T140000
DTSTAMP:20260424T200044
CREATED:20250302T214752Z
LAST-MODIFIED:20250824T222050Z
UID:10001138-1743166800-1743170400@test.s075.wptstaging.space
SUMMARY:Pasadena Satellite Jumma
DESCRIPTION:Join us every Friday for the ICSC Pasadena Satellite Jumma service at 1:00 PM\, held at the First United Methodist Church\, located at 500 E. Colorado Blvd\, Pasadena\, CA 91101. Please remember to bring your own prayer rug. We welcome the entire community to join us in this blessed weekly gathering.
URL:https://test.s075.wptstaging.space/event/icsc-pasadena-satellite/2025-03-28/
LOCATION:ICSC Pasadena Satellite\, 500 E. Colorado Blvd\, Pasadena\, CA\, 91101\, United States
ATTACH;FMTTYPE=image/png:https://test.s075.wptstaging.space/wp-content/uploads/2025/03/Website-Calendar-Event-Image-Pasadena-Satellite.png
END:VEVENT
BEGIN:VEVENT
DTSTART;TZID=America/Los_Angeles:20250328T203000
DTEND;TZID=America/Los_Angeles:20250328T223000
DTSTAMP:20260424T200044
CREATED:20250314T190943Z
LAST-MODIFIED:20250314T190943Z
UID:10002171-1743193800-1743201000@test.s075.wptstaging.space
SUMMARY:Khatam al-Qur'an
DESCRIPTION:Join us in person or online for a special night as we recite the final parts of the Qur’an. \nQur’an Recitation By: Sheikh Asim Buyuksoy & Dr. Saleh Kholaki\nCommentary By: Salam Al-Marayati
URL:https://test.s075.wptstaging.space/event/khatam-al-quran/
LOCATION:Islamic Center of Southern California\, 434 S. Vermont Ave.\, Los Angeles\, CA\, 90020\, United States
ATTACH;FMTTYPE=image/png:https://test.s075.wptstaging.space/wp-content/uploads/2025/03/khatam-al-quran.png
END:VEVENT
BEGIN:VEVENT
DTSTART;TZID=America/Los_Angeles:20250329T090000
DTEND;TZID=America/Los_Angeles:20250329T113000
DTSTAMP:20260424T200044
CREATED:20250209T071330Z
LAST-MODIFIED:20250302T205525Z
UID:10000008-1743238800-1743247800@test.s075.wptstaging.space
SUMMARY:Weekly Food Pantry
DESCRIPTION:Our Food Pantry continues to welcome over 400 people weekly with increased supply from the LA Regional Food Bank.
URL:https://test.s075.wptstaging.space/event/weekly-food-pantry/2025-03-29/
LOCATION:Islamic Center of Southern California\, 434 S. Vermont Ave.\, Los Angeles\, CA\, 90020\, United States
ATTACH;FMTTYPE=image/png:https://test.s075.wptstaging.space/wp-content/uploads/2025/02/Website-Calendar-Event-food-pantry.png
END:VEVENT
BEGIN:VEVENT
DTSTART;TZID=America/Los_Angeles:20250330T080000
DTEND;TZID=America/Los_Angeles:20250330T120000
DTSTAMP:20260424T200044
CREATED:20250328T191905Z
LAST-MODIFIED:20250328T192215Z
UID:10002172-1743321600-1743336000@test.s075.wptstaging.space
SUMMARY:Eid Prayer & Celebration
DESCRIPTION:Join Us for a Joyous Eid al-Fitr Prayer & Celebration 🎉 \nAs we bid farewell to the blessed month of Ramadan\, we invite you to join us for a joyful Eid al-Fitr prayer and celebration at Exposition Park in Los Angeles. Let’s come together in gratitude and unity to mark this special occasion with prayer\, festivities\, and community spirit. Learn More Here\nSunday\, March 30th\, 2025📍 Exposition Park | 700 Exposition Park Dr.\, Los Angeles\, CA 900378:00 AM – Takbeerat | 8:30 AM – Khutbah & Prayer \nTakbeerat will be recited by Sheikh Asim Buyuksoy and Dr. Saleh Kholaki \nKhutbah will be given by Hassan Zeenni \n*Parking will be $20/vehicle [Click Here for Directions to Parking Structure]\nOnline Viewership available at:\nwww.icsclive.com | Facebook | Youtube
URL:https://test.s075.wptstaging.space/event/eid-prayer-celebration/
LOCATION:Exposition Park\, 700 Exposition Park Dr\, Los Angeles\, 90037\, United States
CATEGORIES:Prayer
ATTACH;FMTTYPE=image/png:https://test.s075.wptstaging.space/wp-content/uploads/2025/03/website-event-calendar-eid-image.png
END:VEVENT
END:VCALENDAR